BEGIN:VCALENDAR
VERSION:2.0
PRODID:-//Tåstarp skola - Vi i skolan - ECPv6.15.20//NONSGML v1.0//EN
CALSCALE:GREGORIAN
METHOD:PUBLISH
X-WR-CALNAME:Tåstarp skola - Vi i skolan
X-ORIGINAL-URL:https://viiskolan.se
X-WR-CALDESC:Händelser för Tåstarp skola - Vi i skolan
REFRESH-INTERVAL;VALUE=DURATION:PT1H
X-Robots-Tag:noindex
X-PUBLISHED-TTL:PT1H
BEGIN:VTIMEZONE
TZID:UTC
BEGIN:STANDARD
TZOFFSETFROM:+0000
TZOFFSETTO:+0000
TZNAME:UTC
DTSTART:20240101T000000
END:STANDARD
END:VTIMEZONE
BEGIN:VEVENT
DTSTART;TZID=UTC:20250524T130000
DTEND;TZID=UTC:20250524T170000
DTSTAMP:20260420T073648
CREATED:20250308T110737Z
LAST-MODIFIED:20250308T110737Z
UID:881-1748091600-1748106000@viiskolan.se
SUMMARY:Busstur på Kullahalvön med Hembygdsföreningen
DESCRIPTION:Busstur på Kullahalvön.\nSamling 13.00 vid Skolan i Tåstarp. \nUlrik Alm guidar oss i Carl von Linnés fotspår under en busstur runt på Kullahalvön.\nVi dricker eftermiddagskaffe på Rusthållargården i Arild.\nPris 100 kr för medlem\,150 kr för icke medlem. Åter Skolan ca 17.00\nAnmälan senast 18/5 till Bengt Nilsson 070 739 71 38 eller\nmail: bengt.ganarp@gmail.com
URL:https://viiskolan.se/byakalender/busstur-pa-kullahalvon-med-hembygdsforeningen/
LOCATION:Tåstarp Skola\, Toarps Kyrkstig 1\, Munka-Ljungby\, Skåne\, 26692\, Sweden
CATEGORIES:Tostarps Sockens Hembygdsförening
END:VEVENT
END:VCALENDAR